BEGIN:VCALENDAR
VERSION:2.0
PRODID:-//RCD - Racing Club Douessin Omnisports - ECPv6.15.17.1//NONSGML v1.0//EN
CALSCALE:GREGORIAN
METHOD:PUBLISH
X-WR-CALNAME:RCD - Racing Club Douessin Omnisports
X-ORIGINAL-URL:https://rcdoue.fr
X-WR-CALDESC:Évènements pour RCD - Racing Club Douessin Omnisports
REFRESH-INTERVAL;VALUE=DURATION:PT1H
X-Robots-Tag:noindex
X-PUBLISHED-TTL:PT1H
BEGIN:VTIMEZONE
TZID:Europe/Paris
BEGIN:DAYLIGHT
TZOFFSETFROM:+0100
TZOFFSETTO:+0200
TZNAME:CEST
DTSTART:20250330T010000
END:DAYLIGHT
BEGIN:STANDARD
TZOFFSETFROM:+0200
TZOFFSETTO:+0100
TZNAME:CET
DTSTART:20251026T010000
END:STANDARD
BEGIN:DAYLIGHT
TZOFFSETFROM:+0100
TZOFFSETTO:+0200
TZNAME:CEST
DTSTART:20260329T010000
END:DAYLIGHT
BEGIN:STANDARD
TZOFFSETFROM:+0200
TZOFFSETTO:+0100
TZNAME:CET
DTSTART:20261025T010000
END:STANDARD
BEGIN:DAYLIGHT
TZOFFSETFROM:+0100
TZOFFSETTO:+0200
TZNAME:CEST
DTSTART:20270328T010000
END:DAYLIGHT
BEGIN:STANDARD
TZOFFSETFROM:+0200
TZOFFSETTO:+0100
TZNAME:CET
DTSTART:20271031T010000
END:STANDARD
END:VTIMEZONE
BEGIN:VEVENT
DTSTART;VALUE=DATE:20260425
DTEND;VALUE=DATE:20260426
DTSTAMP:20260424T181038
CREATED:20260208T153900Z
LAST-MODIFIED:20260208T200124Z
UID:25958674-1777075200-1777161599@rcdoue.fr
SUMMARY:Compétition de Karaté Kyokushinkaï aux Essarts
DESCRIPTION:  \n \nLe club participera prochainement à la compétition des Essarts.Nos karatékas monteront une nouvelle fois sur le tatami avec détermination et passion. \n👉 Nous vous invitons à venir nombreux les encourager\, partager ce moment avec eux et vivre l’énergie de la compétition au plus près.Votre soutien fait la différence 💙🥋 \n  \n 
URL:https://rcdoue.fr/evenement/competition-de-karate-kyokushinkai-aux-essarts/
CATEGORIES:Kyokushinkai
END:VEVENT
END:VCALENDAR