BEGIN:VCALENDAR
VERSION:2.0
PRODID:-//RCD - Racing Club Douessin Omnisports - ECPv6.15.17.1//NONSGML v1.0//EN
CALSCALE:GREGORIAN
METHOD:PUBLISH
X-WR-CALNAME:RCD - Racing Club Douessin Omnisports
X-ORIGINAL-URL:https://rcdoue.fr
X-WR-CALDESC:Évènements pour RCD - Racing Club Douessin Omnisports
REFRESH-INTERVAL;VALUE=DURATION:PT1H
X-Robots-Tag:noindex
X-PUBLISHED-TTL:PT1H
BEGIN:VTIMEZONE
TZID:Europe/Paris
BEGIN:DAYLIGHT
TZOFFSETFROM:+0100
TZOFFSETTO:+0200
TZNAME:CEST
DTSTART:20250330T010000
END:DAYLIGHT
BEGIN:STANDARD
TZOFFSETFROM:+0200
TZOFFSETTO:+0100
TZNAME:CET
DTSTART:20251026T010000
END:STANDARD
BEGIN:DAYLIGHT
TZOFFSETFROM:+0100
TZOFFSETTO:+0200
TZNAME:CEST
DTSTART:20260329T010000
END:DAYLIGHT
BEGIN:STANDARD
TZOFFSETFROM:+0200
TZOFFSETTO:+0100
TZNAME:CET
DTSTART:20261025T010000
END:STANDARD
BEGIN:DAYLIGHT
TZOFFSETFROM:+0100
TZOFFSETTO:+0200
TZNAME:CEST
DTSTART:20270328T010000
END:DAYLIGHT
BEGIN:STANDARD
TZOFFSETFROM:+0200
TZOFFSETTO:+0100
TZNAME:CET
DTSTART:20271031T010000
END:STANDARD
END:VTIMEZONE
BEGIN:VEVENT
DTSTART;TZID=Europe/Paris:20260620T090000
DTEND;TZID=Europe/Paris:20260620T130000
DTSTAMP:20260424T180028
CREATED:20250504T160740Z
LAST-MODIFIED:20260203T185410Z
UID:25958371-1781946000-1781960400@rcdoue.fr
SUMMARY:Sport en Fête
DESCRIPTION:Infos à venir…
URL:https://rcdoue.fr/evenement/sport-en-fete/
LOCATION:Stade\, Doué-la-Fontaine\, 49700\, France
CATEGORIES:Omnisports
END:VEVENT
END:VCALENDAR